BEGIN:VCALENDAR
VERSION:2.0
PRODID:-//Charlotte Squash Club - ECPv6.15.18//NONSGML v1.0//EN
CALSCALE:GREGORIAN
METHOD:PUBLISH
X-WR-CALNAME:Charlotte Squash Club
X-ORIGINAL-URL:https://charlottesquashclub.com
X-WR-CALDESC:Events for Charlotte Squash Club
REFRESH-INTERVAL;VALUE=DURATION:PT1H
X-Robots-Tag:noindex
X-PUBLISHED-TTL:PT1H
BEGIN:VTIMEZONE
TZID:UTC
BEGIN:STANDARD
TZOFFSETFROM:+0000
TZOFFSETTO:+0000
TZNAME:UTC
DTSTART:20230101T000000
END:STANDARD
END:VTIMEZONE
BEGIN:VEVENT
DTSTART;VALUE=DATE:20240624
DTEND;VALUE=DATE:20240831
DTSTAMP:20260422T231821
CREATED:20240726T215310Z
LAST-MODIFIED:20240726T215310Z
UID:9199-1719187200-1725062399@charlottesquashclub.com
SUMMARY:Summer Camps 2024
DESCRIPTION:REGISTER FOR FULL/HALF DAY TEENS SQUASH CAMPS HERE\n\nAvailable dates:\nJune 24-28 \nJuly 1-5 (Weekly camp: $500 for full day\, $300 for Half day) \nJuly 8-12 \nJuly 15-19 \nJuly 22-26 \nJuly 29-Aug2 \nAug 5-9 (SLEEPOVER available) \nAug 12-16 \nAug 19-23 \nAug 26-30 \n\n  \n\n\nLocation:\nCharlotte Squash Club \n705-C International Dr \nCharlotte\, NC 28270 \nContact Connisquash@gmail.com \nRegister Here
URL:https://charlottesquashclub.com/event/summer-camps-2024/
LOCATION:The Charlotte Squash Club\, 705 International Drive\, Charlotte\, NC\, 28270\, United States
CATEGORIES:Junior Clinics
END:VEVENT
END:VCALENDAR