BEGIN:VCALENDAR
VERSION:2.0
PRODID:-//Charlotte Squash Club - ECPv6.15.18//NONSGML v1.0//EN
CALSCALE:GREGORIAN
METHOD:PUBLISH
X-ORIGINAL-URL:https://charlottesquashclub.com
X-WR-CALDESC:Events for Charlotte Squash Club
REFRESH-INTERVAL;VALUE=DURATION:PT1H
X-Robots-Tag:noindex
X-PUBLISHED-TTL:PT1H
BEGIN:VTIMEZONE
TZID:UTC
BEGIN:STANDARD
TZOFFSETFROM:+0000
TZOFFSETTO:+0000
TZNAME:UTC
DTSTART:20150101T000000
END:STANDARD
END:VTIMEZONE
BEGIN:VEVENT
DTSTART;VALUE=DATE:20160116
DTEND;VALUE=DATE:20160117
DTSTAMP:20260421T223704
CREATED:20150926T182625Z
LAST-MODIFIED:20150927T182626Z
UID:4390-1452902400-1452988799@charlottesquashclub.com
SUMMARY:Charlotte Silver Juniors Tournament
DESCRIPTION:
URL:https://charlottesquashclub.com/event/charlotte-silver-juniors-tournament/
CATEGORIES:Juniors Tournament (Silver),Juniors Tournaments
END:VEVENT
END:VCALENDAR