BEGIN:VCALENDAR
VERSION:2.0
PRODID:-//Charlotte Squash Club - ECPv6.15.18//NONSGML v1.0//EN
CALSCALE:GREGORIAN
METHOD:PUBLISH
X-WR-CALNAME:Charlotte Squash Club
X-ORIGINAL-URL:https://charlottesquashclub.com
X-WR-CALDESC:Events for Charlotte Squash Club
REFRESH-INTERVAL;VALUE=DURATION:PT1H
X-Robots-Tag:noindex
X-PUBLISHED-TTL:PT1H
BEGIN:VTIMEZONE
TZID:UTC
BEGIN:STANDARD
TZOFFSETFROM:+0000
TZOFFSETTO:+0000
TZNAME:UTC
DTSTART:20240101T000000
END:STANDARD
END:VTIMEZONE
BEGIN:VEVENT
DTSTART;TZID=UTC:20251019T130000
DTEND;TZID=UTC:20251019T153000
DTSTAMP:20260421T121415
CREATED:20251016T160824Z
LAST-MODIFIED:20251016T160948Z
UID:9513-1760878800-1760887800@charlottesquashclub.com
SUMMARY:Oct. 19 Pizza Party
DESCRIPTION:Oct 19 Pizza party come and try squash OPEN HOUSE
URL:https://charlottesquashclub.com/event/oct-19-pizza-party/
LOCATION:NC
END:VEVENT
END:VCALENDAR